BEGIN:VCALENDAR
VERSION:2.0
PRODID:-//Big Easy Roller Derby - ECPv6.15.20//NONSGML v1.0//EN
CALSCALE:GREGORIAN
METHOD:PUBLISH
X-ORIGINAL-URL:https://www.bigeasyrollerderby.com
X-WR-CALDESC:Events for Big Easy Roller Derby
REFRESH-INTERVAL;VALUE=DURATION:PT1H
X-Robots-Tag:noindex
X-PUBLISHED-TTL:PT1H
BEGIN:VTIMEZONE
TZID:America/Chicago
BEGIN:DAYLIGHT
TZOFFSETFROM:-0600
TZOFFSETTO:-0500
TZNAME:CDT
DTSTART:20140309T080000
END:DAYLIGHT
BEGIN:STANDARD
TZOFFSETFROM:-0500
TZOFFSETTO:-0600
TZNAME:CST
DTSTART:20141102T070000
END:STANDARD
BEGIN:DAYLIGHT
TZOFFSETFROM:-0600
TZOFFSETTO:-0500
TZNAME:CDT
DTSTART:20150308T080000
END:DAYLIGHT
BEGIN:STANDARD
TZOFFSETFROM:-0500
TZOFFSETTO:-0600
TZNAME:CST
DTSTART:20151101T070000
END:STANDARD
BEGIN:DAYLIGHT
TZOFFSETFROM:-0600
TZOFFSETTO:-0500
TZNAME:CDT
DTSTART:20160313T080000
END:DAYLIGHT
BEGIN:STANDARD
TZOFFSETFROM:-0500
TZOFFSETTO:-0600
TZNAME:CST
DTSTART:20161106T070000
END:STANDARD
END:VTIMEZONE
BEGIN:VEVENT
DTSTART;TZID=America/Chicago:20150314T170000
DTEND;TZID=America/Chicago:20150314T210000
DTSTAMP:20260423T184558
CREATED:20150104T011759Z
LAST-MODIFIED:20150328T200911Z
UID:6-1426352400-1426366800@www.bigeasyrollerderby.com
SUMMARY:March Home Opener
DESCRIPTION:It’s our first bout of the season!\nCome see your Big Easy Rollergirls Crescent Wenches take on the Red Stick Roller Derby Capital Defenders\, followed by the Big Easy Rollergirls AllStars versus Red Stick Roller Derby All Stars. \nDoors open at 4:30PM\, action starts at 5:00PM. \nYou won’t go hungry with food trucks outside and a cash bar inside. \nTickets are $10 in advance\, $15 the door. Kids 7-12 are $5\, kids 6 and under are free. \nJust Announced:\nWe will be joined by a very special guest: Big Freedia will be shooting the video for the song “Dangerous” at our season opener! We could not be more excited! Get tickets now because this is going to be a night to remember! \n  \nPlease be aware that no refunds will be given should Big Freedia not perform. You are however guaranteed to see some awesome roller derby action.
URL:https://www.bigeasyrollerderby.com/event/march-home-opener/
LOCATION:UNO Human Performance Center\, 2000 Lakeshore Drive\, New Orleans\, LA\, 70122\, United States
CATEGORIES:Home Game
ATTACH;FMTTYPE=image/png:https://www.bigeasyrollerderby.com/wp-content/uploads/2015/01/FB-2015-03-v2.png
END:VEVENT
END:VCALENDAR