BEGIN:VCALENDAR
VERSION:2.0
PRODID:-//Big Easy Roller Derby - ECPv6.15.20//NONSGML v1.0//EN
CALSCALE:GREGORIAN
METHOD:PUBLISH
X-ORIGINAL-URL:https://www.bigeasyrollerderby.com
X-WR-CALDESC:Events for Big Easy Roller Derby
REFRESH-INTERVAL;VALUE=DURATION:PT1H
X-Robots-Tag:noindex
X-PUBLISHED-TTL:PT1H
BEGIN:VTIMEZONE
TZID:America/Chicago
BEGIN:DAYLIGHT
TZOFFSETFROM:-0600
TZOFFSETTO:-0500
TZNAME:CDT
DTSTART:20140309T080000
END:DAYLIGHT
BEGIN:STANDARD
TZOFFSETFROM:-0500
TZOFFSETTO:-0600
TZNAME:CST
DTSTART:20141102T070000
END:STANDARD
BEGIN:DAYLIGHT
TZOFFSETFROM:-0600
TZOFFSETTO:-0500
TZNAME:CDT
DTSTART:20150308T080000
END:DAYLIGHT
BEGIN:STANDARD
TZOFFSETFROM:-0500
TZOFFSETTO:-0600
TZNAME:CST
DTSTART:20151101T070000
END:STANDARD
BEGIN:DAYLIGHT
TZOFFSETFROM:-0600
TZOFFSETTO:-0500
TZNAME:CDT
DTSTART:20160313T080000
END:DAYLIGHT
BEGIN:STANDARD
TZOFFSETFROM:-0500
TZOFFSETTO:-0600
TZNAME:CST
DTSTART:20161106T070000
END:STANDARD
BEGIN:DAYLIGHT
TZOFFSETFROM:-0600
TZOFFSETTO:-0500
TZNAME:CDT
DTSTART:20170312T080000
END:DAYLIGHT
BEGIN:STANDARD
TZOFFSETFROM:-0500
TZOFFSETTO:-0600
TZNAME:CST
DTSTART:20171105T070000
END:STANDARD
END:VTIMEZONE
BEGIN:VEVENT
DTSTART;TZID=America/Chicago:20160521T170000
DTEND;TZID=America/Chicago:20160521T210000
DTSTAMP:20260423T211724
CREATED:20160127T004920Z
LAST-MODIFIED:20160525T234539Z
UID:2925-1463850000-1463864400@www.bigeasyrollerderby.com
SUMMARY:May 21 Double Header
DESCRIPTION:Come see your Big Easy Rollergirls Second Line take on Bat City Rebellion\, followed by the Big Easy Rollergirls AllStars vs. Memphis Roller Derby. \nThe Big Easy Rollergirls are top-notch athletes playing a rough and exciting sport! You won’t find higher-level roller derby in the Greater New Orleans area! \nJoin us at UNO Lakefront Arena- Doors open at 4:30PM\, action starts at 5:00PM. \nFood trucks\, cash bar\, bake sale\, halftime entertainment\, and appearances by the Rolling Elvi and the Fringe Element. \nAll ages are welcome at this family friendly event! \nTickets are $10 in advance\, $15 the door. Kids 7-12 are $5\, kids 6 and under are free. \n 
URL:https://www.bigeasyrollerderby.com/event/may-21-double-header/
LOCATION:UNO Lakefront Arena\,  6801 Franklin Ave\, New Orleans\, LA\, 70122\, United States
CATEGORIES:Home Game
ATTACH;FMTTYPE=image/png:https://www.bigeasyrollerderby.com/wp-content/uploads/2016/01/2016-05-bout-web.png
END:VEVENT
BEGIN:VEVENT
DTSTART;TZID=America/Chicago:20160506T190000
DTEND;TZID=America/Chicago:20160507T000000
DTSTAMP:20260423T211724
CREATED:20160427T162604Z
LAST-MODIFIED:20160427T171134Z
UID:2985-1462561200-1462579200@www.bigeasyrollerderby.com
SUMMARY:Solid Gold Dance Off!
DESCRIPTION:Put on your boogie shoes because it’s Solid Gold Dance Off time again! Get set to party May 6th as we host NOLA’s hottest dance krewes in an all-out stuff-strutting showdown! \nWill Roux La La take home the golden skate for a second year in a row? Will the The Star-Steppin’ Cosmonaughties reclaim their throne? Will The Sirens of New Orleans or Les ReBelles NOLA spawn the upset of 2016? Join us\, the aforementioned\, our amigos in El Lucha Krewe\, and more for a night of dancing\, revelry\, and all-out awesomeness!
URL:https://www.bigeasyrollerderby.com/event/solid-gold-dance-off/
LOCATION:Eiffel Society\, 2040 St Charles Ave\, New Orleans\, LA\, 70130\, United States
CATEGORIES:Fundraiser
ATTACH;FMTTYPE=image/png:https://www.bigeasyrollerderby.com/wp-content/uploads/2016/04/SGD2016-WebEvent.png
END:VEVENT
BEGIN:VEVENT
DTSTART;TZID=America/Chicago:20160416T170000
DTEND;TZID=America/Chicago:20160416T210000
DTSTAMP:20260423T211724
CREATED:20160127T004556Z
LAST-MODIFIED:20160325T000928Z
UID:2924-1460826000-1460840400@www.bigeasyrollerderby.com
SUMMARY:April 16 Double Header
DESCRIPTION:Sponsored by Smokecignals\, New Orleans’ best all-female flat track roller derby – your Big Easy Rollergirls are back for another epic season! This time with newly-renamed Second Line taking on NEO Roller Derby’s Audio Assault and your AllStars facing off against their Rock ‘n’ Roller Girls. \nLakefront Arena\nDoors open @ 4:30 PM\nSecond Line v. Audio Assault @ 5:00\nAllStars v. Rock ‘n’ Roller Girls @ 7:00 \nTickets are $10 in advance\, $15 at the door; and for our 10-year anniversary celebration\, college students get in for just five bucks with valid student ID. Kids 7-12 are also $5\, and kids 6 and under are free. Don’t forget to bring some extra cash for our concessions\, cash bar\, and halftime raffle! \nThe Big Easy Rollergirls are top-notch athletes playing a rough and exciting sport. All ages are welcome at this family friendly event!
URL:https://www.bigeasyrollerderby.com/event/april-16-double-header/
LOCATION:UNO Lakefront Arena\,  6801 Franklin Ave\, New Orleans\, LA\, 70122\, United States
CATEGORIES:Home Game
END:VEVENT
BEGIN:VEVENT
DTSTART;TZID=America/Chicago:20160320T090000
DTEND;TZID=America/Chicago:20160320T160000
DTSTAMP:20260423T211724
CREATED:20160229T235048Z
LAST-MODIFIED:20160301T232854Z
UID:2952-1458464400-1458489600@www.bigeasyrollerderby.com
SUMMARY:NOPD Training Clinic with Denver Roller Derby
DESCRIPTION:We are excited to have three phenomenal trainers\, Midge Mayhem\, Dirté Monkey and Suz from Denver Roller Derby Mile High Club! This is a clinic you do NOT want to miss out on. \nTim Burns (Dirté Monkey) has been apart of Denver Roller Derby for the last 7 years primarily coaching the Mile High Club. In 2014 he started skating with and captaining for MRDA affiliated and brother league Denver’s Ground Control. When he’s not skating or coaching…actually\, that’s not a thing. \nS.H. Long\, current co-captain of the Mile High Club\, grew up in a skating family competing in quad skate competitions. Since learning how to play roller derby in 2010\, she’s become a force to be reckoned with on the track giving credence to her original derby name “The Terrible Suz.” \nStacie “Midge” Wilhelm has been skating with Denver Roller Derby’s Mile High Club for the last three years and taken it upon herself to learn as much as possible about skating\, off-skates training and nutrition. While she may stutter when she talks\, just take it in strides; she’ll finish her sentence eventually. \nSkaters will have one named pack day of derby with an opportunity to utilize skills learned in multiple sessions. \nA Beginner skills and Advanced skills will be offered and will run at different times throughout the day. Spots are limited to 35 per skill level to ensure your skater gets the one-on-one time needed. The Beginner program will be open to advanced skaters if they are interested in attending\, if not we ask that they arrive at 12:30pm sharp so you are in place ready to begin at 1pm. Beginner skaters will not be allowed to participate in the intermediate program\, but if you are interested in staying and taking notes you are more than welcome to do so. \nDate: March 20\, 2016\nLocation: BERG Warehouse\, 3632 Desire Parkway New Orleans\, LA\nSchedule: Sunday 9am-4pm \nSunday\nBeginner Skill Training 9 AM to 12 PM\nLunch 12 PM to 1 PM(On your own)\nIntermediate/ Advanced Skill Training 1 PM to 4 PM \nWhat to Bring:\nFull derby gear\nHydration (Water\,sports drink\, coconut water)\nFiercely Positive attitude \nCost:\nBeginners: $25\nIntermediate/Advanced: $40
URL:https://www.bigeasyrollerderby.com/event/nopd-training-clinic-denver-roller-derby/
LOCATION:BERG Warehouse\, 3632 Desire Parkway\, New Orleans\, LA\, 70126\, United States
CATEGORIES:New Orleans Project Derby
ATTACH;FMTTYPE=image/jpeg:https://www.bigeasyrollerderby.com/wp-content/uploads/2016/02/NOPD-2016-02-Website.jpg
END:VEVENT
BEGIN:VEVENT
DTSTART;TZID=America/Chicago:20160212T190000
DTEND;TZID=America/Chicago:20160212T200000
DTSTAMP:20260423T211724
CREATED:20160127T004218Z
LAST-MODIFIED:20160204T014858Z
UID:2923-1455303600-1455307200@www.bigeasyrollerderby.com
SUMMARY:Big Easy Rollergirls AllStars Skate-A-Thon fundraiser
DESCRIPTION:You know that your Big Easy Rollergirls skate through Hell and High Water\, but on February 12\, 2016\, they will be skating NON-STOP! \nOn February 12\, 2016 from 7pm-8pm\, the AllStars will be skating in their first ever Skate-A-Thon!\n \nOur AllStars will use that entire hour to complete as many laps as they can\, with all proceeds benefitting the AllStar Travel Fund. Those interested in supporting the AllStars can make a pledge to sponsor a skater. Sponsors can either pledge a set donation or donate per lap. \nThe options for “per lap” are $.10\, $.15\, $.20. In order to protect the sponsors from our lightning-fast Rollergirls\, those donating on a “per lap” basis must include a max dollar amount of their choosing (ex: $.20 per lap or up to $100). \nYou can donate via the PayPal button below.\n***In the notes section of the purchase\, please include the following: “AllStar Skate-A-Thon donation; Skater you are sponsoring; Sponsor’s name (you); donation amount.” \nPlease alert your skater before you donate and once donation is sent so they can verify it went through! \nPlease help the Big Easy Rollergirls AllStars continue to travel to play roller derby and represent the Big Easy nationwide. Donate Today!
URL:https://www.bigeasyrollerderby.com/event/big-easy-rollergirls-allstars-skate-thon-fundraiser/
LOCATION:LA
CATEGORIES:Fundraiser
ATTACH;FMTTYPE=image/jpeg:https://www.bigeasyrollerderby.com/wp-content/uploads/2016/01/2016-Skateathon-R1.jpg
END:VEVENT
BEGIN:VEVENT
DTSTART;TZID=America/Chicago:20151018T090000
DTEND;TZID=America/Chicago:20151018T160000
DTSTAMP:20260423T211724
CREATED:20150811T230204Z
LAST-MODIFIED:20150902T225352Z
UID:2874-1445158800-1445184000@www.bigeasyrollerderby.com
SUMMARY:NOPD Training Clinic
DESCRIPTION:Have MERCY! The Big Easy Rollergirls are bringing New Orleans Project Derby back with a vengeance! Join us in welcoming world-class athlete\, Team USA powerhouse\, and Left Turn Coaching mega-genius: Mercy Shammah! \nCo-Sponsored by Bruised Boutique – We’ve got a full day of derby love planned for all who attend. There will be a two-part clinic\, lunch (bring your own or grab a bite nearby) and a Skate Maintenance Session with Bruised Boutique. Space is limited and you don’t want to miss the awesome training opportunity! \nSchedule\n9:00AM – Registration & Warm Up\n9:30AM – Clinic Part 1\n12:00PM – Lunch Break\n1:00PM – Bruised Boutique Session\n1:30PM – Clinic Part 2\n3:00PM – Cool Down & Q&A \nAbout Mercy\nMercy got her first taste of roller derby in Dallas\, Texas from 2006-2008 before moving to Honolulu and skating with Pacific Roller Derby for the 2009 and 2010 seasons. In 2011\, she joined the Rose City Rollers All-Star Team at nationals and was named RCR’s Blocker of the Year. As the captain in 2014\, she lead her team to a gold medal for International Playoffs and a silver medal for International Championships. Mercy is a member of Team USA and a proud member of Team Vagine. \nAs a coach she believes her job is to challenge skaters\, pushing them beyond their self-imposed limitations and to help them play at your highest level of intensity and skill. Her dynamic coaching style echoes the ever changing sport or roller derby. \nWhat to Expect from a Clinic\nAfter 6 years of coaching\, Mercy has an adaptive range of coaching proficiencies. She specializes in creating well rounded clinics from blocking to jamming and individual skill to team training. She provides limitless tips and feedback to skaters of all skill levels. \nNew Orleans Project Derby is a Big Easy Rollergirls initiative to provide high-level training opportunities to grow and strengthen the Gulf South derby community. \nThis event is co-sponsored by our friends at Bruised Boutique. \n\n  \nBrown Paper Tickets Ticket Widget Loading… \nClick Here to visit the Brown Paper Tickets event page.
URL:https://www.bigeasyrollerderby.com/event/nopd-training-clinic/
LOCATION:BERG Warehouse\, 3632 Desire Parkway\, New Orleans\, LA\, 70126\, United States
CATEGORIES:New Orleans Project Derby
ATTACH;FMTTYPE=image/jpeg:https://www.bigeasyrollerderby.com/wp-content/uploads/2015/08/NOPD-2015-10-Website.jpg
END:VEVENT
BEGIN:VEVENT
DTSTART;TZID=America/Chicago:20151001T183000
DTEND;TZID=America/Chicago:20151001T200000
DTSTAMP:20260423T211724
CREATED:20150907T214924Z
LAST-MODIFIED:20150908T230833Z
UID:2888-1443724200-1443729600@www.bigeasyrollerderby.com
SUMMARY:League Tryouts
DESCRIPTION:Do you like roller skating? Are you interested in roller derby but don’t think you have the skills? We will show you how! Come to our clinic first to see what is required for tryouts\, then come try out! \nContact training@bigeasyrollerderby.com for more info \nWe have skates and gear you can borrow\, it is recommended you bring your own mouthguard however.
URL:https://www.bigeasyrollerderby.com/event/big-easy-rollergirls-league-tryouts/
LOCATION:Skate Country Westbank\, 1100 Terry Pkwy\, Terrytown\, LA\, 70056\, United States
ATTACH;FMTTYPE=image/jpeg:https://www.bigeasyrollerderby.com/wp-content/uploads/2015/09/tryouts-2015-Website.jpg
END:VEVENT
BEGIN:VEVENT
DTSTART;TZID=America/Chicago:20150928T183000
DTEND;TZID=America/Chicago:20150928T200000
DTSTAMP:20260423T211724
CREATED:20150907T214612Z
LAST-MODIFIED:20150908T230840Z
UID:2884-1443465000-1443470400@www.bigeasyrollerderby.com
SUMMARY:Tryouts Prep Clinic
DESCRIPTION:Do you like roller skating? Are you interested in roller derby but don’t think you have the skills? We will show you how! Come to our clinic first to see what is required for tryouts\, then come to tryouts! \nContact training@bigeasyrollerderby.com for more info \nWe have skates and gear you can borrow\, it is recommended you bring your own mouthguard however. \n 
URL:https://www.bigeasyrollerderby.com/event/big-easy-rollergirls-tryout-prep-clinic/
LOCATION:Skate Country Westbank\, 1100 Terry Pkwy\, Terrytown\, LA\, 70056\, United States
ATTACH;FMTTYPE=image/jpeg:https://www.bigeasyrollerderby.com/wp-content/uploads/2015/09/tryoutsClinic-2015-Website.jpg
END:VEVENT
BEGIN:VEVENT
DTSTART;TZID=America/Chicago:20150908T183000
DTEND;TZID=America/Chicago:20150908T203000
DTSTAMP:20260423T211724
CREATED:20150811T232219Z
LAST-MODIFIED:20150907T215156Z
UID:2880-1441737000-1441744200@www.bigeasyrollerderby.com
SUMMARY:Open Skate
DESCRIPTION:Come by the warehouse for the last open skate of the off-season! \nEach week we’ve got a trainer on hand from 6:30 – 8:30 to allow for skaters to come and work on their skills in the off-season. \nThere is a $5 drop-in fee for non-BERG skaters but all are welcome!
URL:https://www.bigeasyrollerderby.com/event/open-skate/
LOCATION:BERG Warehouse\, 3632 Desire Parkway\, New Orleans\, LA\, 70126\, United States
END:VEVENT
BEGIN:VEVENT
DTSTART;TZID=America/Chicago:20150718T170000
DTEND;TZID=America/Chicago:20150718T210000
DTSTAMP:20260423T211724
CREATED:20150211T170926Z
LAST-MODIFIED:20150710T011358Z
UID:2369-1437238800-1437253200@www.bigeasyrollerderby.com
SUMMARY:July Home Closer Bout
DESCRIPTION:Come see New Orleans’ best all-female flat track roller derby – your Big Easy Rollergirls – in their last game of the season! \nThe Big Easy Rollergirls Crescent Wenches take on GrassRoots Rollergirls at 5 followed by the AllStars in a very special match against New Orleans’ first men’s league – the New Orleans Brass! \nJoin us at UNO Lakefront Arena! We’ve got food trucks\, a cash bar\, bake sale\, halftime entertainment and appearances by the Rolling Elvi and the Fringe Element. \nThe Big Easy Rollergirls are top-notch athletes playing a rough and exciting sport. All ages are welcome at this family friendly event! \nTickets are $10 in advance\, $15 the door. Kids 7-12 are $5\, kids 6 and under are free. \n  \n****PLEASE NOTE THE LOCATION HAS CHANGED**** \nThis bout will be held at the UNO Lakefront Arena
URL:https://www.bigeasyrollerderby.com/event/july-home-bout/
LOCATION:UNO Lakefront Arena\,  6801 Franklin Ave\, New Orleans\, LA\, 70122\, United States
CATEGORIES:Home Game
ATTACH;FMTTYPE=image/png:https://www.bigeasyrollerderby.com/wp-content/uploads/2015/02/2015-07-fb-share.png
END:VEVENT
BEGIN:VEVENT
DTSTART;TZID=America/Chicago:20150711T080000
DTEND;TZID=America/Chicago:20150711T120000
DTSTAMP:20260423T211724
CREATED:20150619T004750Z
LAST-MODIFIED:20150710T011308Z
UID:2791-1436601600-1436616000@www.bigeasyrollerderby.com
SUMMARY:Running of the Bulls
DESCRIPTION:The 9th Annual Running of the Bulls at San Fermin in Nueva Orleans (SFNO) is the city’s most incredible Summer Spectacle! Join thousands of runners as they roam the streets of New Orleans and party with hundreds of Rollerbulls from around the globe during the Encierro. \nAs usual your Big Easy Rollergirls will be front and center\, bats in hand. Join us and the more 18\,000 runners expected to attend! \nVisit nolabulls.com for full event details and registration.
URL:https://www.bigeasyrollerderby.com/event/9th-annual-running-of-the-bulls/
LOCATION:The Sugar Mill\, 1021 Convention Center Blvd\, New Orleans\, LA\, 70130\, United States
ATTACH;FMTTYPE=image/jpeg:https://www.bigeasyrollerderby.com/wp-content/uploads/2015/06/ROTB-Web.jpg
ORGANIZER;CN="Nola Bulls":MAILTO:info@nolabulls.com
END:VEVENT
BEGIN:VEVENT
DTSTART;TZID=America/Chicago:20150620T170000
DTEND;TZID=America/Chicago:20150620T210000
DTSTAMP:20260423T211724
CREATED:20150211T170653Z
LAST-MODIFIED:20150531T154746Z
UID:2368-1434819600-1434834000@www.bigeasyrollerderby.com
SUMMARY:June Home Bout
DESCRIPTION:Come see New Orleans’ best all-female flat track roller derby – your Big Easy Rollergirls – in their next to last game of the season. The Big Easy Rollergirls Crescent Wenches take on Rocket City at 5 followed by the AllStars against the Cincinnati Rollergirls at 7. \nJoin us at UNO Human Performance Center! We’ve got food trucks\, a cash bar\, bake sale\, halftime entertainment and appearances by the Rolling Elvi and the Fringe Element.  \nThe Big Easy Rollergirls are top-notch athletes playing a rough and exciting sport. All ages are welcome at this family friendly event! \nTickets are $10 in advance\, $15 the door. Kids 7-12 are $5\, kids 6 and under are free.
URL:https://www.bigeasyrollerderby.com/event/june-home-bout/
LOCATION:UNO Human Performance Center\, 2000 Lakeshore Drive\, New Orleans\, LA\, 70122\, United States
CATEGORIES:Home Game
ATTACH;FMTTYPE=image/png:https://www.bigeasyrollerderby.com/wp-content/uploads/2015/02/6_20fbshare.png
END:VEVENT
BEGIN:VEVENT
DTSTART;TZID=America/Chicago:20150527T210000
DTEND;TZID=America/Chicago:20150528T000000
DTSTAMP:20260423T211724
CREATED:20150520T230541Z
LAST-MODIFIED:20150520T230603Z
UID:2776-1432760400-1432771200@www.bigeasyrollerderby.com
SUMMARY:BERG Night at the Hi-Ho Lounge
DESCRIPTION:BERG is hosting a blast from the past at the Hi-Ho Lounge! We’re going back to the age of epic metal bands and when wearing neon everything was cool. So dust off your leg warmers\, get that side pony just right and find those acid wash jeans in the back of your closet because we’re doing 80’s night right! \nWhat would the 80’s be without music??? NOTHING that’s what! So we’ll be having DJ Ruckus blasting everything from Queen\, Run DMC\, Blondie and Michael Jackson to Van Halen\, Culture Club\, Prince and the Beastie Boys!
URL:https://www.bigeasyrollerderby.com/event/berg-night-hi-ho-lounge/
LOCATION:Hi-Ho Lounge\, 2239 Saint Claude Ave\,\, New Orleans\, LA\, 70117\, United States
ATTACH;FMTTYPE=image/jpeg:https://www.bigeasyrollerderby.com/wp-content/uploads/2015/05/BERG80s_web.jpg
END:VEVENT
BEGIN:VEVENT
DTSTART;TZID=America/Chicago:20150516T160000
DTEND;TZID=America/Chicago:20150516T210000
DTSTAMP:20260423T211724
CREATED:20150211T170422Z
LAST-MODIFIED:20150429T232925Z
UID:2367-1431792000-1431810000@www.bigeasyrollerderby.com
SUMMARY:May Home Bout
DESCRIPTION:Big Easy Rollergirls May Double Header\nCome see New Orleans’ best all-female flat track roller derby – your Big Easy Rollergirls – in their third bout of the season. The AllStars will take on the Atlanta Rollergirls Team Rolltron followed by the Crescent Wenches vs. Bat City. \nThis month we’ve got something extra special planned – You can get a sneak peek at our newest class of skaters as they play a 30 minutes expo bout of their own. It’s their first time on the track at UNO which makes it your chance to pick a favorite right from the start! \nTo account for the extra play\, we’re opening the doors early – at 3:45 with the expo starting at 4. The Crescent Wenches take the track at 5 and the AllStars roll out at 7. It’s a big day of derby and we can’t wait to see you there! \nJoin us at UNO Human Performance Center – Food trucks\, cash bar\, bake sale\, bake sale\, halftime entertainment and appearances by the Rolling Elvi and the Fringe Element. \nThe Big Easy Rollergirls are top-notch athletes playing a rough and exciting sport. All ages are welcome at this family friendly event! \nTickets are $10 in advance\, $15 the door. Kids 7-12 are $5\, kids 6 and under are free. College students get in for just $5 with valid school ID.
URL:https://www.bigeasyrollerderby.com/event/may-home-bout/
LOCATION:UNO Human Performance Center\, 2000 Lakeshore Drive\, New Orleans\, LA\, 70122\, United States
CATEGORIES:Home Game
ATTACH;FMTTYPE=image/png:https://www.bigeasyrollerderby.com/wp-content/uploads/2015/02/5_16fbshare.png
END:VEVENT
BEGIN:VEVENT
DTSTART;TZID=America/Chicago:20150418T170000
DTEND;TZID=America/Chicago:20150418T210000
DTSTAMP:20260423T211724
CREATED:20150104T012249Z
LAST-MODIFIED:20150405T131510Z
UID:9-1429376400-1429390800@www.bigeasyrollerderby.com
SUMMARY:April Home Bout
DESCRIPTION:Come see your Big Easy Rollergirls AllStars take on the Detroit Derby Girls followed by the Big Easy Rollergirls Crescent Wenches vs. Cajun Rollergirls. \nThe Big Easy Rollergirls are top-notch athletes playing a rough and exciting sport. You won’t find higher level derby play Greater New Orleans area! \nAll ages are welcome at this family friendly event where kids are encouraged to run the track at half time – just like the skaters do – and everyone comes in for a high-five after each bout! \nJoin us at UNO Human Performance Center – Doors open at 4:30PM\, action starts at 5:00PM. \nFood trucks\, cash bar\, bake sale\, halftime entertainment and appearances by the Rolling Elvi and the Fringe Element. \nTickets are $10 in advance\, $15 the door. Kids 7-12 are $5\, kids 6 and under are free. College students get in for just $5 with valid school ID. \nWe’ll see you April 18th!
URL:https://www.bigeasyrollerderby.com/event/april-home-bout/
LOCATION:UNO Human Performance Center\, 2000 Lakeshore Drive\, New Orleans\, LA\, 70122\, United States
CATEGORIES:Home Game
ATTACH;FMTTYPE=image/png:https://www.bigeasyrollerderby.com/wp-content/uploads/2015/01/4_18fbshare.png
END:VEVENT
BEGIN:VEVENT
DTSTART;TZID=America/Chicago:20150403T190000
DTEND;TZID=America/Chicago:20150403T230000
DTSTAMP:20260423T211724
CREATED:20150328T200734Z
LAST-MODIFIED:20150328T200820Z
UID:2588-1428087600-1428102000@www.bigeasyrollerderby.com
SUMMARY:Solid Gold Dance-Off
DESCRIPTION:The Big Easy Rollergirls present the third annual Solid Gold Dance-Off on Friday\, April 3\, at  EIFFEL SOCIETY. \nWe’ve invited the city’s best marching krewes to throw down once again\, including Disco Amigos\, Gris Gris Strut\, Nola Cherry Bombs\, NOLA Nyxettes\, Roux La La\, The Star-Steppin’ Cosmonaughties\, and more! \nEach group will performs their best moves in an open dance contest. You decide the the winner and they roll away with the Golden Skate! \nJoin us off the track for a night of dancing and fun to benefit your Big Easy Rollergirls! \nDJ Ruckus will be bring the music\, you just come ready to dance!\nThe party starts at 7pm.
URL:https://www.bigeasyrollerderby.com/event/solid-gold-dance-off-2015/
LOCATION:Eiffel Society\, 2040 St Charles Ave\, New Orleans\, LA\, 70130\, United States
CATEGORIES:Fundraiser
ATTACH;FMTTYPE=image/png:https://www.bigeasyrollerderby.com/wp-content/uploads/2015/03/SGD2015-FB-Post-R2.png
END:VEVENT
BEGIN:VEVENT
DTSTART;VALUE=DATE:20150327
DTEND;VALUE=DATE:20150330
DTSTAMP:20260423T211724
CREATED:20150104T012150Z
LAST-MODIFIED:20150216T233421Z
UID:8-1427414400-1427673599@www.bigeasyrollerderby.com
SUMMARY:Clover Cup
DESCRIPTION:All Stars compete in Dallas and the 2015 Clover Cup brought to you by the Dallas Derby Devils. \nThe Dallas Derby Devils host the Clover Cup 2015\, for the 6th straight year. Games will begin on Friday\, March 27\, continuing through to the following day\, with the final games being held on Sunday\, March 29. \nIn addition to the host league’s Army of Darkness squad\, the other teams invited are Northwest Arkansas Roller Derby (Fayetteville\, Arkansas)\, Gold Coast Derby Grrls (Fort Lauderdale\, Florida)\, Oklahoma Victory Dolls (Oklahoma City\, Oklahoma)\, Houston Roller Derby (Houston\, Texas)\, Blue Ridge Rollergirls (Asheville\, North Carolina)\, Kansas City Roller Warriors (Kansas City\, Missouri)\, and Big Easy Rollergirls (New Orleans\, Louisiana). \nThis will be the biggest and most competitive tournament in Clover Cup history. Every competing team is among the top 70 teams in the world\, as ranked by the Women’s Flat Track Derby Association. Additionally\, Kansas City is one of the oldest teams in modern roller derby and is a former WFTDA Champion. \nSee www.clovercup.com for more details!
URL:https://www.bigeasyrollerderby.com/event/clover-cup/
LOCATION:Nytex Sports Centre\, 8851 Ice House Dr\, North Richland Hills\, TX\, 76180\, United States
ATTACH;FMTTYPE=image/jpeg:https://www.bigeasyrollerderby.com/wp-content/uploads/2015/01/clovercup.jpg
END:VEVENT
BEGIN:VEVENT
DTSTART;TZID=America/Chicago:20150314T170000
DTEND;TZID=America/Chicago:20150314T210000
DTSTAMP:20260423T211724
CREATED:20150104T011759Z
LAST-MODIFIED:20150328T200911Z
UID:6-1426352400-1426366800@www.bigeasyrollerderby.com
SUMMARY:March Home Opener
DESCRIPTION:It’s our first bout of the season!\nCome see your Big Easy Rollergirls Crescent Wenches take on the Red Stick Roller Derby Capital Defenders\, followed by the Big Easy Rollergirls AllStars versus Red Stick Roller Derby All Stars. \nDoors open at 4:30PM\, action starts at 5:00PM. \nYou won’t go hungry with food trucks outside and a cash bar inside. \nTickets are $10 in advance\, $15 the door. Kids 7-12 are $5\, kids 6 and under are free. \nJust Announced:\nWe will be joined by a very special guest: Big Freedia will be shooting the video for the song “Dangerous” at our season opener! We could not be more excited! Get tickets now because this is going to be a night to remember! \n  \nPlease be aware that no refunds will be given should Big Freedia not perform. You are however guaranteed to see some awesome roller derby action.
URL:https://www.bigeasyrollerderby.com/event/march-home-opener/
LOCATION:UNO Human Performance Center\, 2000 Lakeshore Drive\, New Orleans\, LA\, 70122\, United States
CATEGORIES:Home Game
ATTACH;FMTTYPE=image/png:https://www.bigeasyrollerderby.com/wp-content/uploads/2015/01/FB-2015-03-v2.png
END:VEVENT
END:VCALENDAR